BEGIN:VCALENDAR
VERSION:2.0
PRODID: Ultiorganizer


BEGIN:VEVENT
SUMMARY:Frühsport and Many Friends-Sachs N
DESCRIPTION:Savage 7: Pool C
LOCATION: Karlsruhe, MTV-Rasen 2
DTSTART;TZID=Europe/Berlin:20190921T093000
DURATION: P30M
GEO:49.0226898193359;8.4166641235352
END:VEVENT

BEGIN:VEVENT
SUMMARY:Discingo-Frühsport and Many Friends
DESCRIPTION:Savage 7: Pool C
LOCATION: Karlsruhe, MTV-Rasen 1
DTSTART;TZID=Europe/Berlin:20190921T110000
DURATION: P30M
GEO:49.0226898193359;8.4166641235352
END:VEVENT

BEGIN:VEVENT
SUMMARY:Sachs N-Discingo
DESCRIPTION:Savage 7: Pool C
LOCATION: Karlsruhe, MTV-Rasen 2
DTSTART;TZID=Europe/Berlin:20190921T120000
DURATION: P30M
GEO:49.0226898193359;8.4166641235352
END:VEVENT

END:VCALENDAR
