BEGIN:VCALENDAR
VERSION:2.0
PRODID: Ultiorganizer


BEGIN:VEVENT
SUMMARY:-
DESCRIPTION:Savage 12: Pool Lo2
LOCATION: Karlsruhe, MTV-Rasen 2
DTSTART;TZID=Europe/Berlin:20190921T150000
DURATION: P30M
GEO:49.0226898193359;8.4166641235352
END:VEVENT

BEGIN:VEVENT
SUMMARY:-
DESCRIPTION:Savage 12: Pool Lo2
LOCATION: Karlsruhe, MTV-Rasen 2
DTSTART;TZID=Europe/Berlin:20190921T160000
DURATION: P30M
GEO:49.0226898193359;8.4166641235352
END:VEVENT

BEGIN:VEVENT
SUMMARY:-
DESCRIPTION:Savage 12: Pool Lo2
LOCATION: Karlsruhe, MTV-Rasen 2
DTSTART;TZID=Europe/Berlin:20190921T170000
DURATION: P30M
GEO:49.0226898193359;8.4166641235352
END:VEVENT

END:VCALENDAR
