BEGIN:VCALENDAR
VERSION:2.0
PRODID: Ultiorganizer


BEGIN:VEVENT
SUMMARY:Zamperl-KAtastrophe
DESCRIPTION:Open: Pool N1
LOCATION: Sporthalle Neureut 1
DTSTART;TZID=Europe/Berlin:20251220T090000
DURATION: P25M
GEO:49.0450286865234;8.3761529922485
END:VEVENT

BEGIN:VEVENT
SUMMARY:Kuchenblechmafia-Alkoholweißes Freibierprojekt
DESCRIPTION:Open: Pool N1
LOCATION: Sporthalle Neureut 2
DTSTART;TZID=Europe/Berlin:20251220T090000
DURATION: P25M
GEO:49.0450286865234;8.3761529922485
END:VEVENT

BEGIN:VEVENT
SUMMARY:Alkoholweißes Freibierprojekt-Zamperl
DESCRIPTION:Open: Pool N1
LOCATION: Sporthalle Neureut 1
DTSTART;TZID=Europe/Berlin:20251220T104000
DURATION: P25M
GEO:49.0450286865234;8.3761529922485
END:VEVENT

BEGIN:VEVENT
SUMMARY:KAtastrophe-Kuchenblechmafia
DESCRIPTION:Open: Pool N1
LOCATION: Sporthalle Neureut 2
DTSTART;TZID=Europe/Berlin:20251220T104000
DURATION: P25M
GEO:49.0450286865234;8.3761529922485
END:VEVENT

BEGIN:VEVENT
SUMMARY:Zamperl-Kuchenblechmafia
DESCRIPTION:Open: Pool N1
LOCATION: Sporthalle Neureut 1
DTSTART;TZID=Europe/Berlin:20251220T122000
DURATION: P25M
GEO:49.0450286865234;8.3761529922485
END:VEVENT

BEGIN:VEVENT
SUMMARY:Alkoholweißes Freibierprojekt-KAtastrophe
DESCRIPTION:Open: Pool N1
LOCATION: Sporthalle Neureut 2
DTSTART;TZID=Europe/Berlin:20251220T122000
DURATION: P25M
GEO:49.0450286865234;8.3761529922485
END:VEVENT

END:VCALENDAR
