BEGIN:VCALENDAR
VERSION:2.0
PRODID: Ultiorganizer


BEGIN:VEVENT
SUMMARY:Hässliche Erdferkel-Altgummis
DESCRIPTION:Open: Pool E2
LOCATION: Sporthallen Eggenstein 1
DTSTART;TZID=Europe/Berlin:20251220T092500
DURATION: P25M
GEO:49.0743446350098;8.4000453948975
END:VEVENT

BEGIN:VEVENT
SUMMARY:Kiffgesellschaft-Töwe
DESCRIPTION:Open: Pool E2
LOCATION: Sporthallen Eggenstein 2
DTSTART;TZID=Europe/Berlin:20251220T092500
DURATION: P25M
GEO:49.0743446350098;8.4000453948975
END:VEVENT

BEGIN:VEVENT
SUMMARY:Töwe-Hässliche Erdferkel
DESCRIPTION:Open: Pool E2
LOCATION: Sporthallen Eggenstein 1
DTSTART;TZID=Europe/Berlin:20251220T113000
DURATION: P25M
GEO:49.0743446350098;8.4000453948975
END:VEVENT

BEGIN:VEVENT
SUMMARY:Altgummis-Kiffgesellschaft
DESCRIPTION:Open: Pool E2
LOCATION: Sporthallen Eggenstein 2
DTSTART;TZID=Europe/Berlin:20251220T113000
DURATION: P25M
GEO:49.0743446350098;8.4000453948975
END:VEVENT

BEGIN:VEVENT
SUMMARY:Hässliche Erdferkel-Kiffgesellschaft
DESCRIPTION:Open: Pool E2
LOCATION: Sporthallen Eggenstein 1
DTSTART;TZID=Europe/Berlin:20251220T124500
DURATION: P25M
GEO:49.0743446350098;8.4000453948975
END:VEVENT

BEGIN:VEVENT
SUMMARY:Töwe-Altgummis
DESCRIPTION:Open: Pool E2
LOCATION: Sporthallen Eggenstein 2
DTSTART;TZID=Europe/Berlin:20251220T124500
DURATION: P25M
GEO:49.0743446350098;8.4000453948975
END:VEVENT

END:VCALENDAR
