BEGIN:VCALENDAR
VERSION:2.0
PRODID: Ultiorganizer


BEGIN:VEVENT
SUMMARY:Wolfs-Kiffgesellschaft
DESCRIPTION:Open: Hi E
LOCATION: Sporthallen Eggenstein 1
DTSTART;TZID=Europe/Berlin:20251220T143000
DURATION: P30M
GEO:49.0743446350098;8.4000453948975
END:VEVENT

BEGIN:VEVENT
SUMMARY:Hässliche Erdferkel-Bremen
DESCRIPTION:Open: Hi E
LOCATION: Sporthallen Eggenstein 2
DTSTART;TZID=Europe/Berlin:20251220T143000
DURATION: P30M
GEO:49.0743446350098;8.4000453948975
END:VEVENT

BEGIN:VEVENT
SUMMARY:Wolfs-Hässliche Erdferkel
DESCRIPTION:Open: Hi E
LOCATION: Sporthallen Eggenstein 1
DTSTART;TZID=Europe/Berlin:20251220T170000
DURATION: P30M
GEO:49.0743446350098;8.4000453948975
END:VEVENT

BEGIN:VEVENT
SUMMARY:Bremen-Kiffgesellschaft
DESCRIPTION:Open: Hi E
LOCATION: Sporthallen Eggenstein 2
DTSTART;TZID=Europe/Berlin:20251220T170000
DURATION: P30M
GEO:49.0743446350098;8.4000453948975
END:VEVENT

END:VCALENDAR
