BEGIN:VCALENDAR
VERSION:2.0
PRODID: Ultiorganizer


BEGIN:VEVENT
SUMMARY:1 Caracals-6 Für Rum und Ehre
DESCRIPTION:Robin 10: Jeder gegen Jeden
LOCATION: Karlsruhe, MTV-Rasen 1
DTSTART;TZID=Europe/Berlin:20190921T093000
DURATION: P30M
GEO:49.0226898193359;8.4166641235352
END:VEVENT

BEGIN:VEVENT
SUMMARY:2 #weissburgunder-7 Tschingderassabum
DESCRIPTION:Robin 10: Jeder gegen Jeden
LOCATION: Karlsruhe, MTV-Rasen 2
DTSTART;TZID=Europe/Berlin:20190921T093000
DURATION: P30M
GEO:49.0226898193359;8.4166641235352
END:VEVENT

BEGIN:VEVENT
SUMMARY:3 Karlsruhe 1-8 Bonnsai
DESCRIPTION:Robin 10: Jeder gegen Jeden
LOCATION: Karlsruhe, MTV-Rasen 1
DTSTART;TZID=Europe/Berlin:20190921T100000
DURATION: P30M
GEO:49.0226898193359;8.4166641235352
END:VEVENT

BEGIN:VEVENT
SUMMARY:4 ?-9 Amore
DESCRIPTION:Robin 10: Jeder gegen Jeden
LOCATION: Karlsruhe, MTV-Rasen 2
DTSTART;TZID=Europe/Berlin:20190921T100000
DURATION: P30M
GEO:49.0226898193359;8.4166641235352
END:VEVENT

BEGIN:VEVENT
SUMMARY:a Karlsruhe 2-5 Heidees
DESCRIPTION:Robin 10: Jeder gegen Jeden
LOCATION: Karlsruhe, MTV-Rasen 1
DTSTART;TZID=Europe/Berlin:20190921T103000
DURATION: P30M
GEO:49.0226898193359;8.4166641235352
END:VEVENT

BEGIN:VEVENT
SUMMARY:7 Tschingderassabum-1 Caracals
DESCRIPTION:Robin 10: Jeder gegen Jeden
LOCATION: Karlsruhe, MTV-Rasen 2
DTSTART;TZID=Europe/Berlin:20190921T103000
DURATION: P30M
GEO:49.0226898193359;8.4166641235352
END:VEVENT

BEGIN:VEVENT
SUMMARY:8 Bonnsai-6 Für Rum und Ehre
DESCRIPTION:Robin 10: Jeder gegen Jeden
LOCATION: Karlsruhe, MTV-Rasen 1
DTSTART;TZID=Europe/Berlin:20190921T110000
DURATION: P30M
GEO:49.0226898193359;8.4166641235352
END:VEVENT

BEGIN:VEVENT
SUMMARY:2 #weissburgunder-9 Amore
DESCRIPTION:Robin 10: Jeder gegen Jeden
LOCATION: Karlsruhe, MTV-Rasen 2
DTSTART;TZID=Europe/Berlin:20190921T110000
DURATION: P30M
GEO:49.0226898193359;8.4166641235352
END:VEVENT

BEGIN:VEVENT
SUMMARY:a Karlsruhe 2-3 Karlsruhe 1
DESCRIPTION:Robin 10: Jeder gegen Jeden
LOCATION: Karlsruhe, MTV-Rasen 1
DTSTART;TZID=Europe/Berlin:20190921T113000
DURATION: P30M
GEO:49.0226898193359;8.4166641235352
END:VEVENT

BEGIN:VEVENT
SUMMARY:4 ?-5 Heidees
DESCRIPTION:Robin 10: Jeder gegen Jeden
LOCATION: Karlsruhe, MTV-Rasen 2
DTSTART;TZID=Europe/Berlin:20190921T113000
DURATION: P30M
GEO:49.0226898193359;8.4166641235352
END:VEVENT

BEGIN:VEVENT
SUMMARY:1 Caracals-8 Bonnsai
DESCRIPTION:Robin 10: Jeder gegen Jeden
LOCATION: Karlsruhe, MTV-Rasen 1
DTSTART;TZID=Europe/Berlin:20190921T120000
DURATION: P30M
GEO:49.0226898193359;8.4166641235352
END:VEVENT

BEGIN:VEVENT
SUMMARY:9 Amore-7 Tschingderassabum
DESCRIPTION:Robin 10: Jeder gegen Jeden
LOCATION: Karlsruhe, MTV-Rasen 2
DTSTART;TZID=Europe/Berlin:20190921T120000
DURATION: P30M
GEO:49.0226898193359;8.4166641235352
END:VEVENT

BEGIN:VEVENT
SUMMARY:6 Für Rum und Ehre-a Karlsruhe 2
DESCRIPTION:Robin 10: Jeder gegen Jeden
LOCATION: Karlsruhe, MTV-Rasen 1
DTSTART;TZID=Europe/Berlin:20190921T123000
DURATION: P30M
GEO:49.0226898193359;8.4166641235352
END:VEVENT

BEGIN:VEVENT
SUMMARY:2 #weissburgunder-5 Heidees
DESCRIPTION:Robin 10: Jeder gegen Jeden
LOCATION: Karlsruhe, MTV-Rasen 2
DTSTART;TZID=Europe/Berlin:20190921T123000
DURATION: P30M
GEO:49.0226898193359;8.4166641235352
END:VEVENT

BEGIN:VEVENT
SUMMARY:3 Karlsruhe 1-4 ?
DESCRIPTION:Robin 10: Jeder gegen Jeden
LOCATION: Karlsruhe, MTV-Rasen 1
DTSTART;TZID=Europe/Berlin:20190921T130000
DURATION: P30M
GEO:49.0226898193359;8.4166641235352
END:VEVENT

BEGIN:VEVENT
SUMMARY:9 Amore-1 Caracals
DESCRIPTION:Robin 10: Jeder gegen Jeden
LOCATION: Karlsruhe, MTV-Rasen 2
DTSTART;TZID=Europe/Berlin:20190921T133000
DURATION: P30M
GEO:49.0226898193359;8.4166641235352
END:VEVENT

BEGIN:VEVENT
SUMMARY:8 Bonnsai-a Karlsruhe 2
DESCRIPTION:Robin 10: Jeder gegen Jeden
LOCATION: Karlsruhe, MTV-Rasen 1
DTSTART;TZID=Europe/Berlin:20190921T140000
DURATION: P30M
GEO:49.0226898193359;8.4166641235352
END:VEVENT

BEGIN:VEVENT
SUMMARY:7 Tschingderassabum-5 Heidees
DESCRIPTION:Robin 10: Jeder gegen Jeden
LOCATION: Karlsruhe, MTV-Rasen 2
DTSTART;TZID=Europe/Berlin:20190921T140000
DURATION: P30M
GEO:49.0226898193359;8.4166641235352
END:VEVENT

BEGIN:VEVENT
SUMMARY:6 Für Rum und Ehre-4 ?
DESCRIPTION:Robin 10: Jeder gegen Jeden
LOCATION: Karlsruhe, MTV-Rasen 1
DTSTART;TZID=Europe/Berlin:20190921T143000
DURATION: P30M
GEO:49.0226898193359;8.4166641235352
END:VEVENT

BEGIN:VEVENT
SUMMARY:2 #weissburgunder-3 Karlsruhe 1
DESCRIPTION:Robin 10: Jeder gegen Jeden
LOCATION: Karlsruhe, MTV-Rasen 2
DTSTART;TZID=Europe/Berlin:20190921T143000
DURATION: P30M
GEO:49.0226898193359;8.4166641235352
END:VEVENT

BEGIN:VEVENT
SUMMARY:a Karlsruhe 2-1 Caracals
DESCRIPTION:Robin 10: Jeder gegen Jeden
LOCATION: Karlsruhe, MTV-Rasen 1
DTSTART;TZID=Europe/Berlin:20190921T150000
DURATION: P30M
GEO:49.0226898193359;8.4166641235352
END:VEVENT

BEGIN:VEVENT
SUMMARY:9 Amore-5 Heidees
DESCRIPTION:Robin 10: Jeder gegen Jeden
LOCATION: Karlsruhe, MTV-Rasen 2
DTSTART;TZID=Europe/Berlin:20190921T150000
DURATION: P30M
GEO:49.0226898193359;8.4166641235352
END:VEVENT

BEGIN:VEVENT
SUMMARY:8 Bonnsai-4 ?
DESCRIPTION:Robin 10: Jeder gegen Jeden
LOCATION: Karlsruhe, MTV-Rasen 1
DTSTART;TZID=Europe/Berlin:20190921T153000
DURATION: P30M
GEO:49.0226898193359;8.4166641235352
END:VEVENT

BEGIN:VEVENT
SUMMARY:7 Tschingderassabum-3 Karlsruhe 1
DESCRIPTION:Robin 10: Jeder gegen Jeden
LOCATION: Karlsruhe, MTV-Rasen 2
DTSTART;TZID=Europe/Berlin:20190921T153000
DURATION: P30M
GEO:49.0226898193359;8.4166641235352
END:VEVENT

BEGIN:VEVENT
SUMMARY:6 Für Rum und Ehre-2 #weissburgunder
DESCRIPTION:Robin 10: Jeder gegen Jeden
LOCATION: Karlsruhe, MTV-Rasen 1
DTSTART;TZID=Europe/Berlin:20190921T160000
DURATION: P30M
GEO:49.0226898193359;8.4166641235352
END:VEVENT

BEGIN:VEVENT
SUMMARY:5 Heidees-1 Caracals
DESCRIPTION:Robin 10: Jeder gegen Jeden
LOCATION: Karlsruhe, MTV-Rasen 2
DTSTART;TZID=Europe/Berlin:20190921T160000
DURATION: P30M
GEO:49.0226898193359;8.4166641235352
END:VEVENT

BEGIN:VEVENT
SUMMARY:4 ?-a Karlsruhe 2
DESCRIPTION:Robin 10: Jeder gegen Jeden
LOCATION: Karlsruhe, MTV-Rasen 1
DTSTART;TZID=Europe/Berlin:20190921T163000
DURATION: P30M
GEO:49.0226898193359;8.4166641235352
END:VEVENT

BEGIN:VEVENT
SUMMARY:9 Amore-3 Karlsruhe 1
DESCRIPTION:Robin 10: Jeder gegen Jeden
LOCATION: Karlsruhe, MTV-Rasen 2
DTSTART;TZID=Europe/Berlin:20190921T163000
DURATION: P30M
GEO:49.0226898193359;8.4166641235352
END:VEVENT

BEGIN:VEVENT
SUMMARY:8 Bonnsai-2 #weissburgunder
DESCRIPTION:Robin 10: Jeder gegen Jeden
LOCATION: Karlsruhe, MTV-Rasen 1
DTSTART;TZID=Europe/Berlin:20190921T170000
DURATION: P30M
GEO:49.0226898193359;8.4166641235352
END:VEVENT

BEGIN:VEVENT
SUMMARY:6 Für Rum und Ehre-7 Tschingderassabum
DESCRIPTION:Robin 10: Jeder gegen Jeden
LOCATION: Karlsruhe, MTV-Rasen 2
DTSTART;TZID=Europe/Berlin:20190921T170000
DURATION: P30M
GEO:49.0226898193359;8.4166641235352
END:VEVENT

BEGIN:VEVENT
SUMMARY:1 Caracals-4 ?
DESCRIPTION:Robin 10: Jeder gegen Jeden
LOCATION: Karlsruhe, MTV-Rasen 1
DTSTART;TZID=Europe/Berlin:20190921T173000
DURATION: P30M
GEO:49.0226898193359;8.4166641235352
END:VEVENT

BEGIN:VEVENT
SUMMARY:5 Heidees-3 Karlsruhe 1
DESCRIPTION:Robin 10: Jeder gegen Jeden
LOCATION: Karlsruhe, MTV-Rasen 2
DTSTART;TZID=Europe/Berlin:20190921T173000
DURATION: P30M
GEO:49.0226898193359;8.4166641235352
END:VEVENT

BEGIN:VEVENT
SUMMARY:2 #weissburgunder-a Karlsruhe 2
DESCRIPTION:Robin 10: Jeder gegen Jeden
LOCATION: Karlsruhe, MTV-Rasen 1
DTSTART;TZID=Europe/Berlin:20190921T180000
DURATION: P30M
GEO:49.0226898193359;8.4166641235352
END:VEVENT

BEGIN:VEVENT
SUMMARY:6 Für Rum und Ehre-9 Amore
DESCRIPTION:Robin 10: Jeder gegen Jeden
LOCATION: Karlsruhe, MTV-Rasen 2
DTSTART;TZID=Europe/Berlin:20190921T180000
DURATION: P30M
GEO:49.0226898193359;8.4166641235352
END:VEVENT

BEGIN:VEVENT
SUMMARY:7 Tschingderassabum-8 Bonnsai
DESCRIPTION:Robin 10: Jeder gegen Jeden
LOCATION: Karlsruhe, MTV-Rasen 1
DTSTART;TZID=Europe/Berlin:20190921T183000
DURATION: P30M
GEO:49.0226898193359;8.4166641235352
END:VEVENT

BEGIN:VEVENT
SUMMARY:3 Karlsruhe 1-1 Caracals
DESCRIPTION:Robin 10: Jeder gegen Jeden
LOCATION: Karlsruhe, MTV-Rasen 1
DTSTART;TZID=Europe/Berlin:20190922T100000
DURATION: P30M
GEO:49.0226898193359;8.4166641235352
END:VEVENT

BEGIN:VEVENT
SUMMARY:4 ?-2 #weissburgunder
DESCRIPTION:Robin 10: Jeder gegen Jeden
LOCATION: Karlsruhe, MTV-Rasen 2
DTSTART;TZID=Europe/Berlin:20190922T100000
DURATION: P30M
GEO:49.0226898193359;8.4166641235352
END:VEVENT

BEGIN:VEVENT
SUMMARY:5 Heidees-6 Für Rum und Ehre
DESCRIPTION:Robin 10: Jeder gegen Jeden
LOCATION: Karlsruhe, MTV-Rasen 1
DTSTART;TZID=Europe/Berlin:20190922T103000
DURATION: P30M
GEO:49.0226898193359;8.4166641235352
END:VEVENT

BEGIN:VEVENT
SUMMARY:a Karlsruhe 2-7 Tschingderassabum
DESCRIPTION:Robin 10: Jeder gegen Jeden
LOCATION: Karlsruhe, MTV-Rasen 2
DTSTART;TZID=Europe/Berlin:20190922T103000
DURATION: P30M
GEO:49.0226898193359;8.4166641235352
END:VEVENT

BEGIN:VEVENT
SUMMARY:8 Bonnsai-9 Amore
DESCRIPTION:Robin 10: Jeder gegen Jeden
LOCATION: Karlsruhe, MTV-Rasen 1
DTSTART;TZID=Europe/Berlin:20190922T110000
DURATION: P30M
GEO:49.0226898193359;8.4166641235352
END:VEVENT

BEGIN:VEVENT
SUMMARY:1 Caracals-2 #weissburgunder
DESCRIPTION:Robin 10: Jeder gegen Jeden
LOCATION: Karlsruhe, MTV-Rasen 2
DTSTART;TZID=Europe/Berlin:20190922T110000
DURATION: P30M
GEO:49.0226898193359;8.4166641235352
END:VEVENT

BEGIN:VEVENT
SUMMARY:3 Karlsruhe 1-6 Für Rum und Ehre
DESCRIPTION:Robin 10: Jeder gegen Jeden
LOCATION: Karlsruhe, MTV-Rasen 1
DTSTART;TZID=Europe/Berlin:20190922T113000
DURATION: P30M
GEO:49.0226898193359;8.4166641235352
END:VEVENT

BEGIN:VEVENT
SUMMARY:4 ?-7 Tschingderassabum
DESCRIPTION:Robin 10: Jeder gegen Jeden
LOCATION: Karlsruhe, MTV-Rasen 2
DTSTART;TZID=Europe/Berlin:20190922T113000
DURATION: P30M
GEO:49.0226898193359;8.4166641235352
END:VEVENT

BEGIN:VEVENT
SUMMARY:5 Heidees-8 Bonnsai
DESCRIPTION:Robin 10: Jeder gegen Jeden
LOCATION: Karlsruhe, MTV-Rasen 1
DTSTART;TZID=Europe/Berlin:20190922T120000
DURATION: P30M
GEO:49.0226898193359;8.4166641235352
END:VEVENT

BEGIN:VEVENT
SUMMARY:9 Amore-a Karlsruhe 2
DESCRIPTION:Robin 10: Jeder gegen Jeden
LOCATION: Karlsruhe, MTV-Rasen 2
DTSTART;TZID=Europe/Berlin:20190922T120000
DURATION: P30M
GEO:49.0226898193359;8.4166641235352
END:VEVENT

END:VCALENDAR
