BEGIN:VCALENDAR
VERSION:2.0
PRODID: Ultiorganizer


BEGIN:VEVENT
SUMMARY:Bad Raps Semi Masters-Team Bergfest
DESCRIPTION:Savage 12: Pool A
LOCATION: Karlsruhe, MTV-Rasen 1
DTSTART;TZID=Europe/Berlin:20190921T103000
DURATION: P30M
GEO:49.0226898193359;8.4166641235352
END:VEVENT

BEGIN:VEVENT
SUMMARY:Bonnsai-Hammerhead
DESCRIPTION:Savage 12: Pool A
LOCATION: Karlsruhe, MTV-Rasen 2
DTSTART;TZID=Europe/Berlin:20190921T103000
DURATION: P30M
GEO:49.0226898193359;8.4166641235352
END:VEVENT

BEGIN:VEVENT
SUMMARY:Hammerhead-Bad Raps Semi Masters
DESCRIPTION:Savage 12: Pool A
LOCATION: Karlsruhe, MTV-Rasen 1
DTSTART;TZID=Europe/Berlin:20190921T120000
DURATION: P30M
GEO:49.0226898193359;8.4166641235352
END:VEVENT

BEGIN:VEVENT
SUMMARY:Team Bergfest-Bonnsai
DESCRIPTION:Savage 12: Pool A
LOCATION: Karlsruhe, MTV-Rasen 2
DTSTART;TZID=Europe/Berlin:20190921T120000
DURATION: P30M
GEO:49.0226898193359;8.4166641235352
END:VEVENT

BEGIN:VEVENT
SUMMARY:Bad Raps Semi Masters-Bonnsai
DESCRIPTION:Savage 12: Pool A
LOCATION: Karlsruhe, MTV-Rasen 1
DTSTART;TZID=Europe/Berlin:20190921T133000
DURATION: P30M
GEO:49.0226898193359;8.4166641235352
END:VEVENT

BEGIN:VEVENT
SUMMARY:Hammerhead-Team Bergfest
DESCRIPTION:Savage 12: Pool A
LOCATION: Karlsruhe, MTV-Rasen 2
DTSTART;TZID=Europe/Berlin:20190921T133000
DURATION: P30M
GEO:49.0226898193359;8.4166641235352
END:VEVENT

BEGIN:VEVENT
SUMMARY:Frischli Bärs-Soul
DESCRIPTION:Savage 12: Pool B
LOCATION: Karlsruhe, MTV-Rasen 1
DTSTART;TZID=Europe/Berlin:20190921T100000
DURATION: P30M
GEO:49.0226898193359;8.4166641235352
END:VEVENT

BEGIN:VEVENT
SUMMARY:Sachs N-Sexy 7
DESCRIPTION:Savage 12: Pool B
LOCATION: Karlsruhe, MTV-Rasen 2
DTSTART;TZID=Europe/Berlin:20190921T100000
DURATION: P30M
GEO:49.0226898193359;8.4166641235352
END:VEVENT

BEGIN:VEVENT
SUMMARY:Sexy 7-Frischli Bärs
DESCRIPTION:Savage 12: Pool B
LOCATION: Karlsruhe, MTV-Rasen 1
DTSTART;TZID=Europe/Berlin:20190921T113000
DURATION: P30M
GEO:49.0226898193359;8.4166641235352
END:VEVENT

BEGIN:VEVENT
SUMMARY:Soul-Sachs N
DESCRIPTION:Savage 12: Pool B
LOCATION: Karlsruhe, MTV-Rasen 2
DTSTART;TZID=Europe/Berlin:20190921T113000
DURATION: P30M
GEO:49.0226898193359;8.4166641235352
END:VEVENT

BEGIN:VEVENT
SUMMARY:Frischli Bärs-Sachs N
DESCRIPTION:Savage 12: Pool B
LOCATION: Karlsruhe, MTV-Rasen 1
DTSTART;TZID=Europe/Berlin:20190921T130000
DURATION: P30M
GEO:49.0226898193359;8.4166641235352
END:VEVENT

BEGIN:VEVENT
SUMMARY:Sexy 7-Soul
DESCRIPTION:Savage 12: Pool B
LOCATION: Karlsruhe, MTV-Rasen 2
DTSTART;TZID=Europe/Berlin:20190921T130000
DURATION: P30M
GEO:49.0226898193359;8.4166641235352
END:VEVENT

BEGIN:VEVENT
SUMMARY:Airforce Disc-Discingo
DESCRIPTION:Savage 12: Pool C
LOCATION: Karlsruhe, MTV-Rasen 1
DTSTART;TZID=Europe/Berlin:20190921T110000
DURATION: P30M
GEO:49.0226898193359;8.4166641235352
END:VEVENT

BEGIN:VEVENT
SUMMARY:Brrring!!-Gummis
DESCRIPTION:Savage 12: Pool C
LOCATION: Karlsruhe, MTV-Rasen 2
DTSTART;TZID=Europe/Berlin:20190921T110000
DURATION: P30M
GEO:49.0226898193359;8.4166641235352
END:VEVENT

BEGIN:VEVENT
SUMMARY:Gummis-Airforce Disc
DESCRIPTION:Savage 12: Pool C
LOCATION: Karlsruhe, MTV-Rasen 1
DTSTART;TZID=Europe/Berlin:20190921T123000
DURATION: P30M
GEO:49.0226898193359;8.4166641235352
END:VEVENT

BEGIN:VEVENT
SUMMARY:Discingo-Brrring!!
DESCRIPTION:Savage 12: Pool C
LOCATION: Karlsruhe, MTV-Rasen 2
DTSTART;TZID=Europe/Berlin:20190921T123000
DURATION: P30M
GEO:49.0226898193359;8.4166641235352
END:VEVENT

BEGIN:VEVENT
SUMMARY:Airforce Disc-Brrring!!
DESCRIPTION:Savage 12: Pool C
LOCATION: Karlsruhe, MTV-Rasen 1
DTSTART;TZID=Europe/Berlin:20190921T140000
DURATION: P30M
GEO:49.0226898193359;8.4166641235352
END:VEVENT

BEGIN:VEVENT
SUMMARY:Gummis-Discingo
DESCRIPTION:Savage 12: Pool C
LOCATION: Karlsruhe, MTV-Rasen 2
DTSTART;TZID=Europe/Berlin:20190921T140000
DURATION: P30M
GEO:49.0226898193359;8.4166641235352
END:VEVENT

BEGIN:VEVENT
SUMMARY:-
DESCRIPTION:Savage 12: Pool Hi1
LOCATION: Karlsruhe, MTV-Rasen 1
DTSTART;TZID=Europe/Berlin:20190921T153000
DURATION: P30M
GEO:49.0226898193359;8.4166641235352
END:VEVENT

BEGIN:VEVENT
SUMMARY:-
DESCRIPTION:Savage 12: Pool Hi1
LOCATION: Karlsruhe, MTV-Rasen 1
DTSTART;TZID=Europe/Berlin:20190921T163000
DURATION: P30M
GEO:49.0226898193359;8.4166641235352
END:VEVENT

BEGIN:VEVENT
SUMMARY:-
DESCRIPTION:Savage 12: Pool Hi1
LOCATION: Karlsruhe, MTV-Rasen 1
DTSTART;TZID=Europe/Berlin:20190921T173000
DURATION: P30M
GEO:49.0226898193359;8.4166641235352
END:VEVENT

BEGIN:VEVENT
SUMMARY:-
DESCRIPTION:Savage 12: Pool Hi2
LOCATION: Karlsruhe, MTV-Rasen 2
DTSTART;TZID=Europe/Berlin:20190921T153000
DURATION: P30M
GEO:49.0226898193359;8.4166641235352
END:VEVENT

BEGIN:VEVENT
SUMMARY:-
DESCRIPTION:Savage 12: Pool Hi2
LOCATION: Karlsruhe, MTV-Rasen 2
DTSTART;TZID=Europe/Berlin:20190921T163000
DURATION: P30M
GEO:49.0226898193359;8.4166641235352
END:VEVENT

BEGIN:VEVENT
SUMMARY:-
DESCRIPTION:Savage 12: Pool Hi2
LOCATION: Karlsruhe, MTV-Rasen 2
DTSTART;TZID=Europe/Berlin:20190921T173000
DURATION: P30M
GEO:49.0226898193359;8.4166641235352
END:VEVENT

BEGIN:VEVENT
SUMMARY:-
DESCRIPTION:Savage 12: Pool Lo1
LOCATION: Karlsruhe, MTV-Rasen 1
DTSTART;TZID=Europe/Berlin:20190921T150000
DURATION: P30M
GEO:49.0226898193359;8.4166641235352
END:VEVENT

BEGIN:VEVENT
SUMMARY:-
DESCRIPTION:Savage 12: Pool Lo1
LOCATION: Karlsruhe, MTV-Rasen 1
DTSTART;TZID=Europe/Berlin:20190921T160000
DURATION: P30M
GEO:49.0226898193359;8.4166641235352
END:VEVENT

BEGIN:VEVENT
SUMMARY:-
DESCRIPTION:Savage 12: Pool Lo1
LOCATION: Karlsruhe, MTV-Rasen 1
DTSTART;TZID=Europe/Berlin:20190921T170000
DURATION: P30M
GEO:49.0226898193359;8.4166641235352
END:VEVENT

BEGIN:VEVENT
SUMMARY:-
DESCRIPTION:Savage 12: Pool Lo2
LOCATION: Karlsruhe, MTV-Rasen 2
DTSTART;TZID=Europe/Berlin:20190921T150000
DURATION: P30M
GEO:49.0226898193359;8.4166641235352
END:VEVENT

BEGIN:VEVENT
SUMMARY:-
DESCRIPTION:Savage 12: Pool Lo2
LOCATION: Karlsruhe, MTV-Rasen 2
DTSTART;TZID=Europe/Berlin:20190921T160000
DURATION: P30M
GEO:49.0226898193359;8.4166641235352
END:VEVENT

BEGIN:VEVENT
SUMMARY:-
DESCRIPTION:Savage 12: Pool Lo2
LOCATION: Karlsruhe, MTV-Rasen 2
DTSTART;TZID=Europe/Berlin:20190921T170000
DURATION: P30M
GEO:49.0226898193359;8.4166641235352
END:VEVENT

BEGIN:VEVENT
SUMMARY:-
DESCRIPTION:Savage 12: Finals 1-4
LOCATION: Karlsruhe, MTV-Rasen 1
DTSTART;TZID=Europe/Berlin:20190922T113000
DURATION: P30M
GEO:49.0226898193359;8.4166641235352
END:VEVENT

BEGIN:VEVENT
SUMMARY:-
DESCRIPTION:Savage 12: Finals 1-4
LOCATION: Karlsruhe, MTV-Rasen 2
DTSTART;TZID=Europe/Berlin:20190922T113000
DURATION: P30M
GEO:49.0226898193359;8.4166641235352
END:VEVENT

BEGIN:VEVENT
SUMMARY:-
DESCRIPTION:Savage 12: Finals 1-4 Finals
LOCATION: Karlsruhe, MTV-Rasen 2
DTSTART;TZID=Europe/Berlin:20190922T130000
DURATION: P30M
GEO:49.0226898193359;8.4166641235352
END:VEVENT

BEGIN:VEVENT
SUMMARY:-
DESCRIPTION:Savage 12: Finals 1-4 Finals
LOCATION: Karlsruhe, MTV-Rasen 1
DTSTART;TZID=Europe/Berlin:20190922T133000
DURATION: P30M
GEO:49.0226898193359;8.4166641235352
END:VEVENT

BEGIN:VEVENT
SUMMARY:-
DESCRIPTION:Savage 12: Finals 5-8
LOCATION: Karlsruhe, MTV-Rasen 1
DTSTART;TZID=Europe/Berlin:20190922T110000
DURATION: P30M
GEO:49.0226898193359;8.4166641235352
END:VEVENT

BEGIN:VEVENT
SUMMARY:-
DESCRIPTION:Savage 12: Finals 5-8
LOCATION: Karlsruhe, MTV-Rasen 2
DTSTART;TZID=Europe/Berlin:20190922T110000
DURATION: P30M
GEO:49.0226898193359;8.4166641235352
END:VEVENT

BEGIN:VEVENT
SUMMARY:-
DESCRIPTION:Savage 12: Finals 5-8 Finals
LOCATION: Karlsruhe, MTV-Rasen 1
DTSTART;TZID=Europe/Berlin:20190922T123000
DURATION: P30M
GEO:49.0226898193359;8.4166641235352
END:VEVENT

BEGIN:VEVENT
SUMMARY:-
DESCRIPTION:Savage 12: Finals 5-8 Finals
LOCATION: Karlsruhe, MTV-Rasen 2
DTSTART;TZID=Europe/Berlin:20190922T123000
DURATION: P30M
GEO:49.0226898193359;8.4166641235352
END:VEVENT

BEGIN:VEVENT
SUMMARY:-
DESCRIPTION:Savage 12: Finals 9-12
LOCATION: Karlsruhe, MTV-Rasen 1
DTSTART;TZID=Europe/Berlin:20190922T103000
DURATION: P30M
GEO:49.0226898193359;8.4166641235352
END:VEVENT

BEGIN:VEVENT
SUMMARY:-
DESCRIPTION:Savage 12: Finals 9-12
LOCATION: Karlsruhe, MTV-Rasen 2
DTSTART;TZID=Europe/Berlin:20190922T103000
DURATION: P30M
GEO:49.0226898193359;8.4166641235352
END:VEVENT

BEGIN:VEVENT
SUMMARY:-
DESCRIPTION:Savage 12: Finals 9-12 Finals
LOCATION: Karlsruhe, MTV-Rasen 1
DTSTART;TZID=Europe/Berlin:20190922T120000
DURATION: P30M
GEO:49.0226898193359;8.4166641235352
END:VEVENT

BEGIN:VEVENT
SUMMARY:-
DESCRIPTION:Savage 12: Finals 9-12 Finals
LOCATION: Karlsruhe, MTV-Rasen 2
DTSTART;TZID=Europe/Berlin:20190922T120000
DURATION: P30M
GEO:49.0226898193359;8.4166641235352
END:VEVENT

END:VCALENDAR
