BEGIN:VCALENDAR
VERSION:2.0
PRODID: Ultiorganizer


BEGIN:VEVENT
SUMMARY:Sesquidistus-Altcandys
DESCRIPTION:Frauen: Pool E1
LOCATION: Sporthallen Eggenstein 1
DTSTART;TZID=Europe/Berlin:20241221T093000
DURATION: P25M
GEO:49.0743446350098;8.4000453948975
END:VEVENT

BEGIN:VEVENT
SUMMARY:U de Cologne-Heidees
DESCRIPTION:Frauen: Pool E1
LOCATION: Sporthallen Eggenstein 2
DTSTART;TZID=Europe/Berlin:20241221T093000
DURATION: P25M
GEO:49.0743446350098;8.4000453948975
END:VEVENT

BEGIN:VEVENT
SUMMARY:Heidees-Sesquidistus
DESCRIPTION:Frauen: Pool E1
LOCATION: Sporthallen Eggenstein 1
DTSTART;TZID=Europe/Berlin:20241221T111000
DURATION: P25M
GEO:49.0743446350098;8.4000453948975
END:VEVENT

BEGIN:VEVENT
SUMMARY:Altcandys-U de Cologne
DESCRIPTION:Frauen: Pool E1
LOCATION: Sporthallen Eggenstein 2
DTSTART;TZID=Europe/Berlin:20241221T111000
DURATION: P25M
GEO:49.0743446350098;8.4000453948975
END:VEVENT

BEGIN:VEVENT
SUMMARY:Sesquidistus-U de Cologne
DESCRIPTION:Frauen: Pool E1
LOCATION: Sporthallen Eggenstein 1
DTSTART;TZID=Europe/Berlin:20241221T125000
DURATION: P25M
GEO:49.0743446350098;8.4000453948975
END:VEVENT

BEGIN:VEVENT
SUMMARY:Heidees-Altcandys
DESCRIPTION:Frauen: Pool E1
LOCATION: Sporthallen Eggenstein 2
DTSTART;TZID=Europe/Berlin:20241221T125000
DURATION: P25M
GEO:49.0743446350098;8.4000453948975
END:VEVENT

BEGIN:VEVENT
SUMMARY:Zamperl-Monsterturnverein
DESCRIPTION:Frauen: Pool E2
LOCATION: Sporthallen Eggenstein 1
DTSTART;TZID=Europe/Berlin:20241221T095500
DURATION: P25M
GEO:49.0743446350098;8.4000453948975
END:VEVENT

BEGIN:VEVENT
SUMMARY:Originals Melange-Ars Ludendi
DESCRIPTION:Frauen: Pool E2
LOCATION: Sporthallen Eggenstein 2
DTSTART;TZID=Europe/Berlin:20241221T095500
DURATION: P25M
GEO:49.0743446350098;8.4000453948975
END:VEVENT

BEGIN:VEVENT
SUMMARY:Ars Ludendi-Zamperl
DESCRIPTION:Frauen: Pool E2
LOCATION: Sporthallen Eggenstein 1
DTSTART;TZID=Europe/Berlin:20241221T120000
DURATION: P25M
GEO:49.0743446350098;8.4000453948975
END:VEVENT

BEGIN:VEVENT
SUMMARY:Monsterturnverein-Originals Melange
DESCRIPTION:Frauen: Pool E2
LOCATION: Sporthallen Eggenstein 2
DTSTART;TZID=Europe/Berlin:20241221T120000
DURATION: P25M
GEO:49.0743446350098;8.4000453948975
END:VEVENT

BEGIN:VEVENT
SUMMARY:Zamperl-Originals Melange
DESCRIPTION:Frauen: Pool E2
LOCATION: Sporthallen Eggenstein 1
DTSTART;TZID=Europe/Berlin:20241221T131500
DURATION: P25M
GEO:49.0743446350098;8.4000453948975
END:VEVENT

BEGIN:VEVENT
SUMMARY:Ars Ludendi-Monsterturnverein
DESCRIPTION:Frauen: Pool E2
LOCATION: Sporthallen Eggenstein 2
DTSTART;TZID=Europe/Berlin:20241221T131500
DURATION: P25M
GEO:49.0743446350098;8.4000453948975
END:VEVENT

BEGIN:VEVENT
SUMMARY:Sesquidistus-Originals Melange
DESCRIPTION:Frauen: Hi E
LOCATION: Sporthallen Eggenstein 1
DTSTART;TZID=Europe/Berlin:20241221T150000
DURATION: P30M
GEO:49.0743446350098;8.4000453948975
END:VEVENT

BEGIN:VEVENT
SUMMARY:Zamperl-U de Cologne
DESCRIPTION:Frauen: Hi E
LOCATION: Sporthallen Eggenstein 2
DTSTART;TZID=Europe/Berlin:20241221T150000
DURATION: P30M
GEO:49.0743446350098;8.4000453948975
END:VEVENT

BEGIN:VEVENT
SUMMARY:Sesquidistus-Zamperl
DESCRIPTION:Frauen: Hi E
LOCATION: Sporthallen Eggenstein 1
DTSTART;TZID=Europe/Berlin:20241221T173000
DURATION: P30M
GEO:49.0743446350098;8.4000453948975
END:VEVENT

BEGIN:VEVENT
SUMMARY:U de Cologne-Originals Melange
DESCRIPTION:Frauen: Hi E
LOCATION: Sporthallen Eggenstein 2
DTSTART;TZID=Europe/Berlin:20241221T173000
DURATION: P30M
GEO:49.0743446350098;8.4000453948975
END:VEVENT

BEGIN:VEVENT
SUMMARY:Heidees-Monsterturnverein
DESCRIPTION:Frauen: Lo E
LOCATION: Sporthallen Eggenstein 1
DTSTART;TZID=Europe/Berlin:20241221T143000
DURATION: P30M
GEO:49.0743446350098;8.4000453948975
END:VEVENT

BEGIN:VEVENT
SUMMARY:Ars Ludendi-Altcandys
DESCRIPTION:Frauen: Lo E
LOCATION: Sporthallen Eggenstein 2
DTSTART;TZID=Europe/Berlin:20241221T143000
DURATION: P30M
GEO:49.0743446350098;8.4000453948975
END:VEVENT

BEGIN:VEVENT
SUMMARY:Heidees-Ars Ludendi
DESCRIPTION:Frauen: Lo E
LOCATION: Sporthallen Eggenstein 1
DTSTART;TZID=Europe/Berlin:20241221T163000
DURATION: P30M
GEO:49.0743446350098;8.4000453948975
END:VEVENT

BEGIN:VEVENT
SUMMARY:Altcandys-Monsterturnverein
DESCRIPTION:Frauen: Lo E
LOCATION: Sporthallen Eggenstein 2
DTSTART;TZID=Europe/Berlin:20241221T163000
DURATION: P30M
GEO:49.0743446350098;8.4000453948975
END:VEVENT

BEGIN:VEVENT
SUMMARY:Gruvity-Murmeltierverein
DESCRIPTION:Frauen: Pool N1
LOCATION: Sporthalle Neureut 1
DTSTART;TZID=Europe/Berlin:20241221T093000
DURATION: P25M
GEO:49.0450286865234;8.3761529922485
END:VEVENT

BEGIN:VEVENT
SUMMARY:Frizzly Bears-Undercover
DESCRIPTION:Frauen: Pool N1
LOCATION: Sporthalle Neureut 2
DTSTART;TZID=Europe/Berlin:20241221T093000
DURATION: P25M
GEO:49.0450286865234;8.3761529922485
END:VEVENT

BEGIN:VEVENT
SUMMARY:Undercover-Gruvity
DESCRIPTION:Frauen: Pool N1
LOCATION: Sporthalle Neureut 1
DTSTART;TZID=Europe/Berlin:20241221T111000
DURATION: P25M
GEO:49.0450286865234;8.3761529922485
END:VEVENT

BEGIN:VEVENT
SUMMARY:Murmeltierverein-Frizzly Bears
DESCRIPTION:Frauen: Pool N1
LOCATION: Sporthalle Neureut 2
DTSTART;TZID=Europe/Berlin:20241221T111000
DURATION: P25M
GEO:49.0450286865234;8.3761529922485
END:VEVENT

BEGIN:VEVENT
SUMMARY:Gruvity-Frizzly Bears
DESCRIPTION:Frauen: Pool N1
LOCATION: Sporthalle Neureut 1
DTSTART;TZID=Europe/Berlin:20241221T125000
DURATION: P25M
GEO:49.0450286865234;8.3761529922485
END:VEVENT

BEGIN:VEVENT
SUMMARY:Undercover-Murmeltierverein
DESCRIPTION:Frauen: Pool N1
LOCATION: Sporthalle Neureut 2
DTSTART;TZID=Europe/Berlin:20241221T125000
DURATION: P25M
GEO:49.0450286865234;8.3761529922485
END:VEVENT

BEGIN:VEVENT
SUMMARY:Black FoXX-Lametta Geschmetta
DESCRIPTION:Frauen: Pool N2
LOCATION: Sporthalle Neureut 1
DTSTART;TZID=Europe/Berlin:20241221T095500
DURATION: P25M
GEO:49.0450286865234;8.3761529922485
END:VEVENT

BEGIN:VEVENT
SUMMARY:Yrr-MarGie
DESCRIPTION:Frauen: Pool N2
LOCATION: Sporthalle Neureut 2
DTSTART;TZID=Europe/Berlin:20241221T095500
DURATION: P25M
GEO:49.0450286865234;8.3761529922485
END:VEVENT

BEGIN:VEVENT
SUMMARY:MarGie-Black FoXX
DESCRIPTION:Frauen: Pool N2
LOCATION: Sporthalle Neureut 1
DTSTART;TZID=Europe/Berlin:20241221T120000
DURATION: P25M
GEO:49.0450286865234;8.3761529922485
END:VEVENT

BEGIN:VEVENT
SUMMARY:Lametta Geschmetta-Yrr
DESCRIPTION:Frauen: Pool N2
LOCATION: Sporthalle Neureut 2
DTSTART;TZID=Europe/Berlin:20241221T120000
DURATION: P25M
GEO:49.0450286865234;8.3761529922485
END:VEVENT

BEGIN:VEVENT
SUMMARY:Black FoXX-Yrr
DESCRIPTION:Frauen: Pool N2
LOCATION: Sporthalle Neureut 1
DTSTART;TZID=Europe/Berlin:20241221T131500
DURATION: P25M
GEO:49.0450286865234;8.3761529922485
END:VEVENT

BEGIN:VEVENT
SUMMARY:MarGie-Lametta Geschmetta
DESCRIPTION:Frauen: Pool N2
LOCATION: Sporthalle Neureut 2
DTSTART;TZID=Europe/Berlin:20241221T131500
DURATION: P25M
GEO:49.0450286865234;8.3761529922485
END:VEVENT

BEGIN:VEVENT
SUMMARY:Gruvity-Yrr
DESCRIPTION:Frauen: Hi N
LOCATION: Sporthalle Neureut 1
DTSTART;TZID=Europe/Berlin:20241221T150000
DURATION: P30M
GEO:49.0450286865234;8.3761529922485
END:VEVENT

BEGIN:VEVENT
SUMMARY:Black FoXX-Undercover
DESCRIPTION:Frauen: Hi N
LOCATION: Sporthalle Neureut 2
DTSTART;TZID=Europe/Berlin:20241221T150000
DURATION: P30M
GEO:49.0450286865234;8.3761529922485
END:VEVENT

BEGIN:VEVENT
SUMMARY:Gruvity-Black FoXX
DESCRIPTION:Frauen: Hi N
LOCATION: Sporthalle Neureut 1
DTSTART;TZID=Europe/Berlin:20241221T173000
DURATION: P30M
GEO:49.0450286865234;8.3761529922485
END:VEVENT

BEGIN:VEVENT
SUMMARY:Undercover-Yrr
DESCRIPTION:Frauen: Hi N
LOCATION: Sporthalle Neureut 2
DTSTART;TZID=Europe/Berlin:20241221T173000
DURATION: P30M
GEO:49.0450286865234;8.3761529922485
END:VEVENT

BEGIN:VEVENT
SUMMARY:Frizzly Bears-Lametta Geschmetta
DESCRIPTION:Frauen: Lo N
LOCATION: Sporthalle Neureut 1
DTSTART;TZID=Europe/Berlin:20241221T143000
DURATION: P30M
GEO:49.0450286865234;8.3761529922485
END:VEVENT

BEGIN:VEVENT
SUMMARY:MarGie-Murmeltierverein
DESCRIPTION:Frauen: Lo N
LOCATION: Sporthalle Neureut 2
DTSTART;TZID=Europe/Berlin:20241221T143000
DURATION: P30M
GEO:49.0450286865234;8.3761529922485
END:VEVENT

BEGIN:VEVENT
SUMMARY:Frizzly Bears-MarGie
DESCRIPTION:Frauen: Lo N
LOCATION: Sporthalle Neureut 1
DTSTART;TZID=Europe/Berlin:20241221T163000
DURATION: P30M
GEO:49.0450286865234;8.3761529922485
END:VEVENT

BEGIN:VEVENT
SUMMARY:Murmeltierverein-Lametta Geschmetta
DESCRIPTION:Frauen: Lo N
LOCATION: Sporthalle Neureut 2
DTSTART;TZID=Europe/Berlin:20241221T163000
DURATION: P30M
GEO:49.0450286865234;8.3761529922485
END:VEVENT

BEGIN:VEVENT
SUMMARY:Yrr-Sesquidistus
DESCRIPTION:Frauen: Finals 1-4
LOCATION: Sporthalle Neureut 1
DTSTART;TZID=Europe/Berlin:20241222T115000
DURATION: P20M
GEO:49.0450286865234;8.3761529922485
END:VEVENT

BEGIN:VEVENT
SUMMARY:Zamperl-Gruvity
DESCRIPTION:Frauen: Finals 1-4
LOCATION: Sporthalle Neureut 2
DTSTART;TZID=Europe/Berlin:20241222T115000
DURATION: P20M
GEO:49.0450286865234;8.3761529922485
END:VEVENT

BEGIN:VEVENT
SUMMARY:Yrr-Gruvity
DESCRIPTION:Frauen: Finals 1-4 Finals
LOCATION: Sporthalle Neureut 1
DTSTART;TZID=Europe/Berlin:20241222T141000
DURATION: P20M
GEO:49.0450286865234;8.3761529922485
END:VEVENT

BEGIN:VEVENT
SUMMARY:Sesquidistus-Zamperl
DESCRIPTION:Frauen: Finals 1-4 Finals
LOCATION: Sporthalle Neureut 1
DTSTART;TZID=Europe/Berlin:20241222T145000
DURATION: P20M
GEO:49.0450286865234;8.3761529922485
END:VEVENT

BEGIN:VEVENT
SUMMARY:Black FoXX-U de Cologne
DESCRIPTION:Frauen: Finals 5-8
LOCATION: Sporthalle Neureut 1
DTSTART;TZID=Europe/Berlin:20241222T111000
DURATION: P20M
GEO:49.0450286865234;8.3761529922485
END:VEVENT

BEGIN:VEVENT
SUMMARY:Originals Melange-Undercover
DESCRIPTION:Frauen: Finals 5-8
LOCATION: Sporthalle Neureut 2
DTSTART;TZID=Europe/Berlin:20241222T111000
DURATION: P20M
GEO:49.0450286865234;8.3761529922485
END:VEVENT

BEGIN:VEVENT
SUMMARY:Black FoXX-Originals Melange
DESCRIPTION:Frauen: Finals 5-8 Finals
LOCATION: Sporthalle Neureut 1
DTSTART;TZID=Europe/Berlin:20241222T135000
DURATION: P20M
GEO:49.0450286865234;8.3761529922485
END:VEVENT

BEGIN:VEVENT
SUMMARY:U de Cologne-Undercover
DESCRIPTION:Frauen: Finals 5-8 Finals
LOCATION: Sporthalle Neureut 2
DTSTART;TZID=Europe/Berlin:20241222T135000
DURATION: P20M
GEO:49.0450286865234;8.3761529922485
END:VEVENT

BEGIN:VEVENT
SUMMARY:MarGie-Ars Ludendi
DESCRIPTION:Frauen: Finals 9-11
LOCATION: Sporthalle Neureut 1
DTSTART;TZID=Europe/Berlin:20241222T103000
DURATION: P20M
GEO:49.0450286865234;8.3761529922485
END:VEVENT

BEGIN:VEVENT
SUMMARY:Heidees-Frizzly Bears
DESCRIPTION:Frauen: Finals 9-11
LOCATION: Sporthalle Neureut 2
DTSTART;TZID=Europe/Berlin:20241222T103000
DURATION: P20M
GEO:49.0450286865234;8.3761529922485
END:VEVENT

BEGIN:VEVENT
SUMMARY:MarGie-Heidees
DESCRIPTION:Frauen: Finals 9-11 Finals
LOCATION: Sporthalle Neureut 1
DTSTART;TZID=Europe/Berlin:20241222T131000
DURATION: P20M
GEO:49.0450286865234;8.3761529922485
END:VEVENT

BEGIN:VEVENT
SUMMARY:Ars Ludendi-Frizzly Bears
DESCRIPTION:Frauen: Finals 9-11 Finals
LOCATION: Sporthalle Neureut 2
DTSTART;TZID=Europe/Berlin:20241222T131000
DURATION: P20M
GEO:49.0450286865234;8.3761529922485
END:VEVENT

BEGIN:VEVENT
SUMMARY:Lametta Geschmetta-Monsterturnverein
DESCRIPTION:Frauen: Finals 12-16
LOCATION: Sporthalle Neureut 1
DTSTART;TZID=Europe/Berlin:20241222T095000
DURATION: P20M
GEO:49.0450286865234;8.3761529922485
END:VEVENT

BEGIN:VEVENT
SUMMARY:Altcandys-Murmeltierverein
DESCRIPTION:Frauen: Finals 12-16
LOCATION: Sporthalle Neureut 2
DTSTART;TZID=Europe/Berlin:20241222T095000
DURATION: P20M
GEO:49.0450286865234;8.3761529922485
END:VEVENT

BEGIN:VEVENT
SUMMARY:Lametta Geschmetta-Murmeltierverein
DESCRIPTION:Frauen: Finals 12-16 Finals
LOCATION: Sporthalle Neureut 1
DTSTART;TZID=Europe/Berlin:20241222T123000
DURATION: P20M
GEO:49.0450286865234;8.3761529922485
END:VEVENT

BEGIN:VEVENT
SUMMARY:Monsterturnverein-Altcandys
DESCRIPTION:Frauen: Finals 12-16 Finals
LOCATION: Sporthalle Neureut 2
DTSTART;TZID=Europe/Berlin:20241222T123000
DURATION: P20M
GEO:49.0450286865234;8.3761529922485
END:VEVENT

END:VCALENDAR
