BEGIN:VCALENDAR
VERSION:2.0
PRODID: Ultiorganizer


BEGIN:VEVENT
SUMMARY:Erdferkelinen-Lametter Geschmetter
DESCRIPTION:Frauen: A Neur.
LOCATION: Sporthalle Neureut 1
DTSTART;TZID=Europe/Berlin:20171216T093000
DURATION: P25M
GEO:49.0450286865234;8.3761529922485
END:VEVENT

BEGIN:VEVENT
SUMMARY:Lametter Geschmetter-MissConnection
DESCRIPTION:Frauen: A Neur.
LOCATION: Sporthalle Neureut 2
DTSTART;TZID=Europe/Berlin:20171216T102000
DURATION: P25M
GEO:49.0450286865234;8.3761529922485
END:VEVENT

BEGIN:VEVENT
SUMMARY:Heidees-Lametter Geschmetter
DESCRIPTION:Frauen: A Neur.
LOCATION: Sporthalle Neureut 2
DTSTART;TZID=Europe/Berlin:20171216T122500
DURATION: P25M
GEO:49.0450286865234;8.3761529922485
END:VEVENT

BEGIN:VEVENT
SUMMARY:Lametter Geschmetter-Foif Christkindli
DESCRIPTION:Frauen: M Neur.
LOCATION: Sporthalle Neureut 2
DTSTART;TZID=Europe/Berlin:20171216T143000
DURATION: P25M
GEO:49.0450286865234;8.3761529922485
END:VEVENT

BEGIN:VEVENT
SUMMARY:U de Cologne-Lametter Geschmetter
DESCRIPTION:Frauen: M Neur.
LOCATION: Sporthalle Neureut 2
DTSTART;TZID=Europe/Berlin:20171216T161000
DURATION: P25M
GEO:49.0450286865234;8.3761529922485
END:VEVENT

BEGIN:VEVENT
SUMMARY:Lametter Geschmetter-Rubiks Boobs
DESCRIPTION:Frauen: Top 13-16
LOCATION: Sporthalle Neureut 1
DTSTART;TZID=Europe/Berlin:20171217T093000
DURATION: P20M
GEO:49.0450286865234;8.3761529922485
END:VEVENT

BEGIN:VEVENT
SUMMARY:Lametter Geschmetter-Woodchicas
DESCRIPTION:Frauen: Top 13-16 Finals
LOCATION: Sporthalle Neureut 1
DTSTART;TZID=Europe/Berlin:20171217T123000
DURATION: P20M
GEO:49.0450286865234;8.3761529922485
END:VEVENT

END:VCALENDAR
