BEGIN:VCALENDAR
VERSION:2.0
PRODID: Ultiorganizer


BEGIN:VEVENT
SUMMARY:Hässliche Erdferkel-Alkoholweißes Freibierprojekt
DESCRIPTION:Open: H Egg.
LOCATION: Sporthalle Eggenstein 1
DTSTART;TZID=Europe/Berlin:20171216T104500
DURATION: P25M
GEO:49.0741882324219;8.4002065658569
END:VEVENT

BEGIN:VEVENT
SUMMARY:Alkoholweißes Freibierprojekt-Sesqui
DESCRIPTION:Open: H Egg.
LOCATION: Sporthalle Eggenstein 2
DTSTART;TZID=Europe/Berlin:20171216T113500
DURATION: P25M
GEO:49.0741882324219;8.4002065658569
END:VEVENT

BEGIN:VEVENT
SUMMARY:Haaner Hähnchen-Alkoholweißes Freibierprojekt
DESCRIPTION:Open: H Egg.
LOCATION: Sporthalle Eggenstein 1
DTSTART;TZID=Europe/Berlin:20171216T134000
DURATION: P25M
GEO:49.0741882324219;8.4002065658569
END:VEVENT

BEGIN:VEVENT
SUMMARY:Baybees-Alkoholweißes Freibierprojekt
DESCRIPTION:Open: U Egg.
LOCATION: Sporthalle Eggenstein 1
DTSTART;TZID=Europe/Berlin:20171216T152000
DURATION: P25M
GEO:49.0741882324219;8.4002065658569
END:VEVENT

BEGIN:VEVENT
SUMMARY:Alkoholweißes Freibierprojekt-Gummis Dark
DESCRIPTION:Open: U Egg.
LOCATION: Sporthalle Eggenstein 1
DTSTART;TZID=Europe/Berlin:20171216T163500
DURATION: P25M
GEO:49.0741882324219;8.4002065658569
END:VEVENT

BEGIN:VEVENT
SUMMARY:Team Südsee-Alkoholweißes Freibierprojekt
DESCRIPTION:Open: Best 5-8
LOCATION: Sporthalle Neureut 1
DTSTART;TZID=Europe/Berlin:20171217T111000
DURATION: P20M
GEO:49.0450286865234;8.3761529922485
END:VEVENT

BEGIN:VEVENT
SUMMARY:Alkoholweißes Freibierprojekt-Dresden
DESCRIPTION:Open: Best 5-8 Finals
LOCATION: Sporthalle Neureut 2
DTSTART;TZID=Europe/Berlin:20171217T133000
DURATION: P20M
GEO:49.0450286865234;8.3761529922485
END:VEVENT

END:VCALENDAR
