BEGIN:VCALENDAR
VERSION:2.0
PRODID: Ultiorganizer


BEGIN:VEVENT
SUMMARY:4 ?-2 #weissburgunder
DESCRIPTION:Robin 11: Jeder gegen Jeden
LOCATION: Karlsruhe, MTV-Rasen 4
DTSTART;TZID=Europe/Berlin:20190921T100000
DURATION: P30M
GEO:49.0226898193359;8.4166641235352
END:VEVENT

BEGIN:VEVENT
SUMMARY:4 ?-6 Für Rum und Ehre
DESCRIPTION:Robin 11: Jeder gegen Jeden
LOCATION: Karlsruhe, MTV-Rasen 4
DTSTART;TZID=Europe/Berlin:20190921T113000
DURATION: P30M
GEO:49.0226898193359;8.4166641235352
END:VEVENT

BEGIN:VEVENT
SUMMARY:9 ICE Cream-4 ?
DESCRIPTION:Robin 11: Jeder gegen Jeden
LOCATION: Karlsruhe, MTV-Rasen 4
DTSTART;TZID=Europe/Berlin:20190921T123000
DURATION: P30M
GEO:49.0226898193359;8.4166641235352
END:VEVENT

BEGIN:VEVENT
SUMMARY:b Amore-4 ?
DESCRIPTION:Robin 11: Jeder gegen Jeden
LOCATION: Karlsruhe, MTV-Rasen 3
DTSTART;TZID=Europe/Berlin:20190921T133000
DURATION: P30M
GEO:49.0226898193359;8.4166641235352
END:VEVENT

BEGIN:VEVENT
SUMMARY:a Karlsruhe 2-4 ?
DESCRIPTION:Robin 11: Jeder gegen Jeden
LOCATION: Karlsruhe, MTV-Rasen 3
DTSTART;TZID=Europe/Berlin:20190921T143000
DURATION: P30M
GEO:49.0226898193359;8.4166641235352
END:VEVENT

BEGIN:VEVENT
SUMMARY:5 Heidees-4 ?
DESCRIPTION:Robin 11: Jeder gegen Jeden
LOCATION: Karlsruhe, MTV-Rasen 4
DTSTART;TZID=Europe/Berlin:20190921T153000
DURATION: P30M
GEO:49.0226898193359;8.4166641235352
END:VEVENT

BEGIN:VEVENT
SUMMARY:1 Caracals-4 ?
DESCRIPTION:Robin 11: Jeder gegen Jeden
LOCATION: Karlsruhe, MTV-Rasen 3
DTSTART;TZID=Europe/Berlin:20190921T180000
DURATION: P30M
GEO:49.0226898193359;8.4166641235352
END:VEVENT

BEGIN:VEVENT
SUMMARY:4 ?-8 Bonnsai
DESCRIPTION:Robin 11: Jeder gegen Jeden
LOCATION: Karlsruhe, MTV-Rasen 4
DTSTART;TZID=Europe/Berlin:20190922T093000
DURATION: P30M
GEO:49.0226898193359;8.4166641235352
END:VEVENT

BEGIN:VEVENT
SUMMARY:4 ?-7 Tschingderassabum
DESCRIPTION:Robin 11: Jeder gegen Jeden
LOCATION: Karlsruhe, MTV-Rasen 3
DTSTART;TZID=Europe/Berlin:20190922T110000
DURATION: P30M
GEO:49.0226898193359;8.4166641235352
END:VEVENT

BEGIN:VEVENT
SUMMARY:4 ?-3 Karlsruhe 1
DESCRIPTION:Robin 11: Jeder gegen Jeden
LOCATION: Karlsruhe, MTV-Rasen 4
DTSTART;TZID=Europe/Berlin:20190922T123000
DURATION: P30M
GEO:49.0226898193359;8.4166641235352
END:VEVENT

END:VCALENDAR
