BEGIN:VCALENDAR
VERSION:2.0
PRODID: Ultiorganizer


BEGIN:VEVENT
SUMMARY:Frizzly Bears-Bonnsai
DESCRIPTION:Furious 10: Pool C
LOCATION: Karlsruhe, MTV-Kunstrasen 1
DTSTART;TZID=Europe/Berlin:20190921T100000
DURATION: P30M
GEO:49.0221138000488;8.4193038940430
END:VEVENT

BEGIN:VEVENT
SUMMARY:#weissburgunder-Frizzly Bears
DESCRIPTION:Furious 10: Pool C
LOCATION: Karlsruhe, MTV-Kunstrasen 1
DTSTART;TZID=Europe/Berlin:20190921T110000
DURATION: P30M
GEO:49.0221138000488;8.4193038940430
END:VEVENT

BEGIN:VEVENT
SUMMARY:Frizzly Bears-Tschingderassabum
DESCRIPTION:Furious 10: Pool C
LOCATION: Karlsruhe, MTV-Kunstrasen 1
DTSTART;TZID=Europe/Berlin:20190921T120000
DURATION: P30M
GEO:49.0221138000488;8.4193038940430
END:VEVENT

END:VCALENDAR
