BEGIN:VCALENDAR
VERSION:2.0
PRODID: Ultiorganizer


BEGIN:VEVENT
SUMMARY:Team Südsee-Altgummis
DESCRIPTION:Open: Vorrunde
LOCATION: Sporthalle Neureut 2
DTSTART;TZID=Europe/Berlin:20221217T102100
DURATION: P24M
GEO:49.0450286865234;8.3761529922485
END:VEVENT

BEGIN:VEVENT
SUMMARY:Zamperl-Team Südsee
DESCRIPTION:Open: Vorrunde, Runde 2
LOCATION: Sporthalle Neureut 1
DTSTART;TZID=Europe/Berlin:20221217T120600
DURATION: P24M
GEO:49.0450286865234;8.3761529922485
END:VEVENT

BEGIN:VEVENT
SUMMARY:Team Südsee-DISConnection
DESCRIPTION:Open: Vorrunde, Runde 3
LOCATION: Sporthalle Neureut 1
DTSTART;TZID=Europe/Berlin:20221217T143900
DURATION: P24M
GEO:49.0450286865234;8.3761529922485
END:VEVENT

BEGIN:VEVENT
SUMMARY:Alkoholweißes Freibierprojekt-Team Südsee
DESCRIPTION:Open: Vorrunde, Runde 4
LOCATION: Sporthalle Neureut 2
DTSTART;TZID=Europe/Berlin:20221217T164800
DURATION: P24M
GEO:49.0450286865234;8.3761529922485
END:VEVENT

BEGIN:VEVENT
SUMMARY:Hässliche Erdferkel-Team Südsee
DESCRIPTION:Open: Endrunde
LOCATION: Sporthalle Neureut 2
DTSTART;TZID=Europe/Berlin:20221218T102000
DURATION: P25M
GEO:49.0450286865234;8.3761529922485
END:VEVENT

BEGIN:VEVENT
SUMMARY:Heidees-Team Südsee
DESCRIPTION:Open: Endrunde, Runde 2
LOCATION: Sporthalle Neureut 1
DTSTART;TZID=Europe/Berlin:20221218T125000
DURATION: P25M
GEO:49.0450286865234;8.3761529922485
END:VEVENT

END:VCALENDAR
