BEGIN:VCALENDAR
VERSION:2.0
PRODID: Ultiorganizer


BEGIN:VEVENT
SUMMARY:DisConnection-Alkoholweißes Freibierprojekt
DESCRIPTION:Open: Pool N1
LOCATION: Sporthalle Neureut 2
DTSTART;TZID=Europe/Berlin:20231216T093000
DURATION: P25M
GEO:49.0450286865234;8.3761529922485
END:VEVENT

BEGIN:VEVENT
SUMMARY:Alkoholweißes Freibierprojekt-Zamperl
DESCRIPTION:Open: Pool N1
LOCATION: Sporthalle Neureut 1
DTSTART;TZID=Europe/Berlin:20231216T111000
DURATION: P25M
GEO:49.0450286865234;8.3761529922485
END:VEVENT

BEGIN:VEVENT
SUMMARY:Alkoholweißes Freibierprojekt-Gummis 1
DESCRIPTION:Open: Pool N1
LOCATION: Sporthalle Neureut 2
DTSTART;TZID=Europe/Berlin:20231216T125000
DURATION: P25M
GEO:49.0450286865234;8.3761529922485
END:VEVENT

BEGIN:VEVENT
SUMMARY:Alkoholweißes Freibierprojekt-Paradisco
DESCRIPTION:Open: Lo N
LOCATION: Sporthalle Neureut 1
DTSTART;TZID=Europe/Berlin:20231216T143000
DURATION: P30M
GEO:49.0450286865234;8.3761529922485
END:VEVENT

BEGIN:VEVENT
SUMMARY:Alkoholweißes Freibierprojekt-Las Mingas
DESCRIPTION:Open: Lo N
LOCATION: Sporthalle Neureut 1
DTSTART;TZID=Europe/Berlin:20231216T163000
DURATION: P30M
GEO:49.0450286865234;8.3761529922485
END:VEVENT

BEGIN:VEVENT
SUMMARY:Team Südsee-Alkoholweißes Freibierprojekt
DESCRIPTION:Open: Finals 9-11
LOCATION: Sporthalle Neureut 2
DTSTART;TZID=Europe/Berlin:20231217T103000
DURATION: P20M
GEO:49.0450286865234;8.3761529922485
END:VEVENT

BEGIN:VEVENT
SUMMARY:Las Mingas-Alkoholweißes Freibierprojekt
DESCRIPTION:Open: Finals 9-11 Finals
LOCATION: Sporthalle Neureut 1
DTSTART;TZID=Europe/Berlin:20231217T131000
DURATION: P20M
GEO:49.0450286865234;8.3761529922485
END:VEVENT

END:VCALENDAR
