BEGIN:VCALENDAR
VERSION:2.0
PRODID: Ultiorganizer


BEGIN:VEVENT
SUMMARY:Weißburgunder-Team Südsee
DESCRIPTION:Frauen: Pool E1
LOCATION: Sporthallen Eggenstein 1
DTSTART;TZID=Europe/Berlin:20231216T102000
DURATION: P25M
GEO:49.0743446350098;8.4000453948975
END:VEVENT

BEGIN:VEVENT
SUMMARY:Team Südsee-MarGie
DESCRIPTION:Frauen: Pool E1
LOCATION: Sporthallen Eggenstein 2
DTSTART;TZID=Europe/Berlin:20231216T113500
DURATION: P25M
GEO:49.0743446350098;8.4000453948975
END:VEVENT

BEGIN:VEVENT
SUMMARY:U de Cologne-Team Südsee
DESCRIPTION:Frauen: Pool E1
LOCATION: Sporthallen Eggenstein 2
DTSTART;TZID=Europe/Berlin:20231216T134000
DURATION: P25M
GEO:49.0743446350098;8.4000453948975
END:VEVENT

BEGIN:VEVENT
SUMMARY:Team Südsee-Phantasia
DESCRIPTION:Frauen: Lo E
LOCATION: Sporthallen Eggenstein 1
DTSTART;TZID=Europe/Berlin:20231216T153000
DURATION: P30M
GEO:49.0743446350098;8.4000453948975
END:VEVENT

BEGIN:VEVENT
SUMMARY:Team Südsee-Heidees
DESCRIPTION:Frauen: Lo E
LOCATION: Sporthallen Eggenstein 1
DTSTART;TZID=Europe/Berlin:20231216T170000
DURATION: P30M
GEO:49.0743446350098;8.4000453948975
END:VEVENT

BEGIN:VEVENT
SUMMARY:Yrr-Team Südsee
DESCRIPTION:Frauen: Finals 9-11
LOCATION: Sporthalle Neureut 1
DTSTART;TZID=Europe/Berlin:20231217T101000
DURATION: P20M
GEO:49.0450286865234;8.3761529922485
END:VEVENT

BEGIN:VEVENT
SUMMARY:Team Südsee-Cassata
DESCRIPTION:Frauen: Finals 9-11 Finals
LOCATION: Sporthalle Neureut 2
DTSTART;TZID=Europe/Berlin:20231217T125000
DURATION: P20M
GEO:49.0450286865234;8.3761529922485
END:VEVENT

END:VCALENDAR
