BEGIN:VCALENDAR
VERSION:2.0
PRODID: Ultiorganizer


BEGIN:VEVENT
SUMMARY:Frühsport 02-Team Südsee
DESCRIPTION:Open: Pool N2
LOCATION: Sporthalle Neureut 2
DTSTART;TZID=Europe/Berlin:20251220T092500
DURATION: P25M
GEO:49.0450286865234;8.3761529922485
END:VEVENT

BEGIN:VEVENT
SUMMARY:Team Südsee-Schleichkobolde
DESCRIPTION:Open: Pool N2
LOCATION: Sporthalle Neureut 1
DTSTART;TZID=Europe/Berlin:20251220T113000
DURATION: P25M
GEO:49.0450286865234;8.3761529922485
END:VEVENT

BEGIN:VEVENT
SUMMARY:Team Südsee-Heidees
DESCRIPTION:Open: Pool N2
LOCATION: Sporthalle Neureut 2
DTSTART;TZID=Europe/Berlin:20251220T124500
DURATION: P25M
GEO:49.0450286865234;8.3761529922485
END:VEVENT

BEGIN:VEVENT
SUMMARY:Team Südsee-KAtastrophe
DESCRIPTION:Open: Lo N
LOCATION: Sporthalle Neureut 2
DTSTART;TZID=Europe/Berlin:20251220T140000
DURATION: P30M
GEO:49.0450286865234;8.3761529922485
END:VEVENT

BEGIN:VEVENT
SUMMARY:Kuchenblechmafia-Team Südsee
DESCRIPTION:Open: Lo N
LOCATION: Sporthalle Neureut 1
DTSTART;TZID=Europe/Berlin:20251220T160000
DURATION: P30M
GEO:49.0450286865234;8.3761529922485
END:VEVENT

BEGIN:VEVENT
SUMMARY:Töwe-Team Südsee
DESCRIPTION:Open: Finals 9-11
LOCATION: Sporthalle Neureut 2
DTSTART;TZID=Europe/Berlin:20251221T100000
DURATION: P20M
GEO:49.0450286865234;8.3761529922485
END:VEVENT

BEGIN:VEVENT
SUMMARY:Kuchenblechmafia-Team Südsee
DESCRIPTION:Open: Finals 9-11 Finals
LOCATION: Sporthalle Neureut 1
DTSTART;TZID=Europe/Berlin:20251221T124000
DURATION: P20M
GEO:49.0450286865234;8.3761529922485
END:VEVENT

END:VCALENDAR
