BEGIN:VCALENDAR
VERSION:2.0
PRODID: Ultiorganizer


BEGIN:VEVENT
SUMMARY:Yrr-Heidees
DESCRIPTION:Frauen: Pool N2
LOCATION: Sporthalle Neureut 2
DTSTART;TZID=Europe/Berlin:20251220T101500
DURATION: P25M
GEO:49.0450286865234;8.3761529922485
END:VEVENT

BEGIN:VEVENT
SUMMARY:Heidees-Weißburgunder
DESCRIPTION:Frauen: Pool N2
LOCATION: Sporthalle Neureut 1
DTSTART;TZID=Europe/Berlin:20251220T115500
DURATION: P25M
GEO:49.0450286865234;8.3761529922485
END:VEVENT

BEGIN:VEVENT
SUMMARY:Heidees-Lametta Geschmetta
DESCRIPTION:Frauen: Pool N2
LOCATION: Sporthalle Neureut 2
DTSTART;TZID=Europe/Berlin:20251220T133500
DURATION: P25M
GEO:49.0450286865234;8.3761529922485
END:VEVENT

BEGIN:VEVENT
SUMMARY:Altcandys-Heidees
DESCRIPTION:Frauen: Lo N
LOCATION: Sporthalle Neureut 1
DTSTART;TZID=Europe/Berlin:20251220T150000
DURATION: P30M
GEO:49.0450286865234;8.3761529922485
END:VEVENT

BEGIN:VEVENT
SUMMARY:U de Cologne-Heidees
DESCRIPTION:Frauen: Lo N
LOCATION: Sporthalle Neureut 2
DTSTART;TZID=Europe/Berlin:20251220T163000
DURATION: P30M
GEO:49.0450286865234;8.3761529922485
END:VEVENT

BEGIN:VEVENT
SUMMARY:Heidees-DisKAdo
DESCRIPTION:Frauen: Finals 13-16
LOCATION: Sporthalle Neureut 1
DTSTART;TZID=Europe/Berlin:20251221T090000
DURATION: P20M
GEO:49.0450286865234;8.3761529922485
END:VEVENT

BEGIN:VEVENT
SUMMARY:Heidees-Ars Ludamndi
DESCRIPTION:Frauen: Finals 13-16 Finals
LOCATION: Sporthalle Neureut 1
DTSTART;TZID=Europe/Berlin:20251221T114000
DURATION: P20M
GEO:49.0450286865234;8.3761529922485
END:VEVENT

END:VCALENDAR
