BEGIN:VCALENDAR
VERSION:2.0
PRODID: Ultiorganizer


BEGIN:VEVENT
SUMMARY:1 Caracals-6 Für Rum und Ehre
DESCRIPTION:Robin 10: Jeder gegen Jeden
LOCATION: Karlsruhe, MTV-Rasen 1
DTSTART;TZID=Europe/Berlin:20190921T093000
DURATION: P30M
GEO:49.0226898193359;8.4166641235352
END:VEVENT

BEGIN:VEVENT
SUMMARY:8 Bonnsai-6 Für Rum und Ehre
DESCRIPTION:Robin 10: Jeder gegen Jeden
LOCATION: Karlsruhe, MTV-Rasen 1
DTSTART;TZID=Europe/Berlin:20190921T110000
DURATION: P30M
GEO:49.0226898193359;8.4166641235352
END:VEVENT

BEGIN:VEVENT
SUMMARY:6 Für Rum und Ehre-a Karlsruhe 2
DESCRIPTION:Robin 10: Jeder gegen Jeden
LOCATION: Karlsruhe, MTV-Rasen 1
DTSTART;TZID=Europe/Berlin:20190921T123000
DURATION: P30M
GEO:49.0226898193359;8.4166641235352
END:VEVENT

BEGIN:VEVENT
SUMMARY:6 Für Rum und Ehre-4 ?
DESCRIPTION:Robin 10: Jeder gegen Jeden
LOCATION: Karlsruhe, MTV-Rasen 1
DTSTART;TZID=Europe/Berlin:20190921T143000
DURATION: P30M
GEO:49.0226898193359;8.4166641235352
END:VEVENT

BEGIN:VEVENT
SUMMARY:6 Für Rum und Ehre-2 #weissburgunder
DESCRIPTION:Robin 10: Jeder gegen Jeden
LOCATION: Karlsruhe, MTV-Rasen 1
DTSTART;TZID=Europe/Berlin:20190921T160000
DURATION: P30M
GEO:49.0226898193359;8.4166641235352
END:VEVENT

BEGIN:VEVENT
SUMMARY:6 Für Rum und Ehre-7 Tschingderassabum
DESCRIPTION:Robin 10: Jeder gegen Jeden
LOCATION: Karlsruhe, MTV-Rasen 2
DTSTART;TZID=Europe/Berlin:20190921T170000
DURATION: P30M
GEO:49.0226898193359;8.4166641235352
END:VEVENT

BEGIN:VEVENT
SUMMARY:6 Für Rum und Ehre-9 Amore
DESCRIPTION:Robin 10: Jeder gegen Jeden
LOCATION: Karlsruhe, MTV-Rasen 2
DTSTART;TZID=Europe/Berlin:20190921T180000
DURATION: P30M
GEO:49.0226898193359;8.4166641235352
END:VEVENT

BEGIN:VEVENT
SUMMARY:5 Heidees-6 Für Rum und Ehre
DESCRIPTION:Robin 10: Jeder gegen Jeden
LOCATION: Karlsruhe, MTV-Rasen 1
DTSTART;TZID=Europe/Berlin:20190922T103000
DURATION: P30M
GEO:49.0226898193359;8.4166641235352
END:VEVENT

BEGIN:VEVENT
SUMMARY:3 Karlsruhe 1-6 Für Rum und Ehre
DESCRIPTION:Robin 10: Jeder gegen Jeden
LOCATION: Karlsruhe, MTV-Rasen 1
DTSTART;TZID=Europe/Berlin:20190922T113000
DURATION: P30M
GEO:49.0226898193359;8.4166641235352
END:VEVENT

END:VCALENDAR
